|SUCCESS| pw135721 [PATCH] [v2] app/test-crypto-perf: fix invalid mb

dpdklab at iol.unh.edu dpdklab at iol.unh.edu
Thu Jan 4 04:07:29 CET 2024


Test-Label: iol-unit-arm64-testing
Test-Status: SUCCESS
http://dpdk.org/patch/135721

_Testing PASS_

Submitter: Suanming Mou <suanmingm at nvidia.com>
Date: Thursday, January 04 2024 02:24:05 
DPDK git baseline: Repo:dpdk
  Branch: master
  CommitID:6ef07151aac4b4d9601d547f94a996d1c71b3871

135721 --> testing pass

Test environment and result as below:

+----------------------+------------------------------+---------------------------+----------------+--------------+
|     Environment      | cryptodev_sw_snow3g_autotest | cryptodev_sw_zuc_autotest | dpdk_unit_test | lpm_autotest |
+======================+==============================+===========================+================+==============+
| Debian 11 (arm)      | PASS                         | PASS                      | SKIPPED        | SKIPPED      |
+----------------------+------------------------------+---------------------------+----------------+--------------+
| Fedora 38 (ARM)      | SKIPPED                      | SKIPPED                   | PASS           | SKIPPED      |
+----------------------+------------------------------+---------------------------+----------------+--------------+
| Ubuntu 20.04 ARM SVE | SKIPPED                      | SKIPPED                   | SKIPPED        | PASS         |
+----------------------+------------------------------+---------------------------+----------------+--------------+


Debian 11 (arm)
	Kernel: Container Host Kernel
	Compiler: gcc 10.2.1

Fedora 38 (ARM)
	Kernel: Depends on container host
	Compiler: gcc 13.1.1

Ubuntu 20.04 ARM SVE
	Kernel: 5.4.0-80-generic
	Compiler: gcc 10.3.0 (Ubuntu 10.3.0-1ubuntu1~20.04)

To view detailed results, visit:
https://lab.dpdk.org/results/dashboard/patchsets/28784/

UNH-IOL DPDK Community Lab

To manage your email subscriptions, visit: 
https://lab.dpdk.org/results/dashboard/preferences/subscriptions/


More information about the test-report mailing list