|SUCCESS| pw135727 [PATCH] [v3] net/i40e: add diagnostic support in
dpdklab at iol.unh.edu
dpdklab at iol.unh.edu
Thu Jan 4 12:43:25 CET 2024
Test-Label: iol-compile-amd64-testing
Test-Status: SUCCESS
http://dpdk.org/patch/135727
_Testing PASS_
Submitter: Mingjin Ye <mingjinx.ye at intel.com>
Date: Thursday, January 04 2024 10:20:20
DPDK git baseline: Repo:dpdk
Branch: master
CommitID:6ef07151aac4b4d9601d547f94a996d1c71b3871
135727 --> testing pass
Test environment and result as below:
+---------------------+--------------------+
| Environment | dpdk_meson_compile |
+=====================+====================+
| Windows Server 2022 | PASS |
+---------------------+--------------------+
| FreeBSD 13 | PASS |
+---------------------+--------------------+
| Windows Server 2019 | PASS |
+---------------------+--------------------+
Windows Server 2022
Kernel: OS Build 20348.2031
Compiler: MSVC VS-Preview
FreeBSD 13
Kernel: 13.0
Compiler: clang 11.0.1
Windows Server 2019
Kernel: 10.0
Compiler: clang 14.0 and gcc 8.1.0 (MinGW)
To view detailed results, visit:
https://lab.dpdk.org/results/dashboard/patchsets/28788/
UNH-IOL DPDK Community Lab
To manage your email subscriptions, visit:
https://lab.dpdk.org/results/dashboard/preferences/subscriptions/
More information about the test-report
mailing list