|SUCCESS| [GIT MASTER] 915ecb9cd68c5d613bee44ad41536a4f489f6d15
dpdklab at iol.unh.edu
dpdklab at iol.unh.edu
Thu Jan 4 23:19:43 CET 2024
_Testing PASS_
Branch: dpdk-next-net-intel
915ecb9cd68c5d613bee44ad41536a4f489f6d15 --> testing pass
Test environment and result as below:
+--------------------------+---------------------------+--------------+------------------------------+----------------+
| Environment | cryptodev_sw_zuc_autotest | lpm_autotest | cryptodev_sw_snow3g_autotest | dpdk_unit_test |
+==========================+===========================+==============+==============================+================+
| Debian 11 (arm) | PASS | SKIPPED | PASS | SKIPPED |
+--------------------------+---------------------------+--------------+------------------------------+----------------+
| Ubuntu 20.04 ARM SVE | SKIPPED | PASS | SKIPPED | SKIPPED |
+--------------------------+---------------------------+--------------+------------------------------+----------------+
| Debian 11 (Buster) (ARM) | SKIPPED | SKIPPED | SKIPPED | PASS |
+--------------------------+---------------------------+--------------+------------------------------+----------------+
Debian 11 (arm)
Kernel: Container Host Kernel
Compiler: gcc 10.2.1
Ubuntu 20.04 ARM SVE
Kernel: 5.4.0-80-generic
Compiler: gcc 10.3.0 (Ubuntu 10.3.0-1ubuntu1~20.04)
Debian 11 (Buster) (ARM)
Kernel: Container Host Kernel
Compiler: gcc 10.2.1
To view detailed results, visit:
https://lab.dpdk.org/results/dashboard/tarballs/27562/
UNH-IOL DPDK Community Lab
To manage your email subscriptions, visit:
https://lab.dpdk.org/results/dashboard/preferences/subscriptions/
More information about the test-report
mailing list