|SUCCESS| pw135775 [PATCH] [1/1] ml/cnxk: enable data caching for TV

dpdklab at iol.unh.edu dpdklab at iol.unh.edu
Sun Jan 7 18:08:30 CET 2024


Test-Label: iol-unit-arm64-testing
Test-Status: SUCCESS
http://dpdk.org/patch/135775

_Testing PASS_

Submitter: Srikanth Yalavarthi <syalavarthi at marvell.com>
Date: Sunday, January 07 2024 15:20:04 
DPDK git baseline: Repo:dpdk
  Branch: master
  CommitID:6ef07151aac4b4d9601d547f94a996d1c71b3871

135775 --> testing pass

Test environment and result as below:

+--------------------------+---------------------------+------------------------------+----------------+
|       Environment        | cryptodev_sw_zuc_autotest | cryptodev_sw_snow3g_autotest | dpdk_unit_test |
+==========================+===========================+==============================+================+
| Debian 11 (arm)          | PASS                      | PASS                         | SKIPPED        |
+--------------------------+---------------------------+------------------------------+----------------+
| CentOS Stream 9 (ARM)    | SKIPPED                   | SKIPPED                      | PASS           |
+--------------------------+---------------------------+------------------------------+----------------+
| Debian 11 (Buster) (ARM) | SKIPPED                   | SKIPPED                      | PASS           |
+--------------------------+---------------------------+------------------------------+----------------+


Debian 11 (arm)
	Kernel: Container Host Kernel
	Compiler: gcc 10.2.1

CentOS Stream 9 (ARM)
	Kernel: Container Host Kernel
	Compiler: gcc 11.3.1

Debian 11 (Buster) (ARM)
	Kernel: Container Host Kernel
	Compiler: gcc 10.2.1

To view detailed results, visit:
https://lab.dpdk.org/results/dashboard/patchsets/28818/

UNH-IOL DPDK Community Lab

To manage your email subscriptions, visit: 
https://lab.dpdk.org/results/dashboard/preferences/subscriptions/


More information about the test-report mailing list