|SUCCESS| pw135778-135776 [PATCH] [3/3] ml/cnxk: add support for add
dpdklab at iol.unh.edu
dpdklab at iol.unh.edu
Sun Jan 7 21:30:30 CET 2024
Test-Label: iol-unit-amd64-testing
Test-Status: SUCCESS
http://dpdk.org/patch/135776
_Testing PASS_
Submitter: Srikanth Yalavarthi <syalavarthi at marvell.com>
Date: Sunday, January 07 2024 15:28:12
DPDK git baseline: Repo:dpdk
Branch: master
CommitID:6ef07151aac4b4d9601d547f94a996d1c71b3871
135778-135776 --> testing pass
Test environment and result as below:
+---------------------+----------------+
| Environment | dpdk_unit_test |
+=====================+================+
| Windows Server 2019 | PASS |
+---------------------+----------------+
| CentOS Stream 9 | PASS |
+---------------------+----------------+
| CentOS Stream 8 | PASS |
+---------------------+----------------+
Windows Server 2019
Kernel: 10.0
Compiler: clang 14.0 and gcc 8.1.0 (MinGW)
CentOS Stream 9
Kernel: 4.18.0-240.10.1.el8_3.x86_64
Compiler: gcc 11.3.1 20220421
CentOS Stream 8
Kernel: 4.18.0-240.10.1.el8_3.x86_64
Compiler: gcc 8.4.1 20200928
To view detailed results, visit:
https://lab.dpdk.org/results/dashboard/patchsets/28819/
UNH-IOL DPDK Community Lab
To manage your email subscriptions, visit:
https://lab.dpdk.org/results/dashboard/preferences/subscriptions/
More information about the test-report
mailing list