|SUCCESS| pw135795 [PATCH] doc: update command scope information
dpdklab at iol.unh.edu
dpdklab at iol.unh.edu
Mon Jan 8 09:26:19 CET 2024
Test-Label: iol-unit-arm64-testing
Test-Status: SUCCESS
http://dpdk.org/patch/135795
_Testing PASS_
Submitter: Sunil Kumar Kori <skori at marvell.com>
Date: Monday, January 08 2024 07:34:15
DPDK git baseline: Repo:dpdk
Branch: master
CommitID:6ef07151aac4b4d9601d547f94a996d1c71b3871
135795 --> testing pass
Test environment and result as below:
+--------------------------+---------------------------+------------------------------+----------------+
| Environment | cryptodev_sw_zuc_autotest | cryptodev_sw_snow3g_autotest | dpdk_unit_test |
+==========================+===========================+==============================+================+
| Debian 11 (arm) | PASS | PASS | SKIPPED |
+--------------------------+---------------------------+------------------------------+----------------+
| CentOS Stream 9 (ARM) | SKIPPED | SKIPPED | PASS |
+--------------------------+---------------------------+------------------------------+----------------+
| Debian 11 (Buster) (ARM) | SKIPPED | SKIPPED | PASS |
+--------------------------+---------------------------+------------------------------+----------------+
Debian 11 (arm)
Kernel: Container Host Kernel
Compiler: gcc 10.2.1
CentOS Stream 9 (ARM)
Kernel: Container Host Kernel
Compiler: gcc 11.3.1
Debian 11 (Buster) (ARM)
Kernel: Container Host Kernel
Compiler: gcc 10.2.1
To view detailed results, visit:
https://lab.dpdk.org/results/dashboard/patchsets/28825/
UNH-IOL DPDK Community Lab
To manage your email subscriptions, visit:
https://lab.dpdk.org/results/dashboard/preferences/subscriptions/
More information about the test-report
mailing list