|SUCCESS| pw135798-135799 [PATCH] [v4,2/2] ip_frag: updated name for

dpdklab at iol.unh.edu dpdklab at iol.unh.edu
Mon Jan 8 13:47:49 CET 2024


Test-Label: iol-unit-arm64-testing
Test-Status: SUCCESS
http://dpdk.org/patch/135799

_Testing PASS_

Submitter: Euan Bourke <euan.bourke at intel.com>
Date: Monday, January 08 2024 11:36:14 
DPDK git baseline: Repo:dpdk
  Branch: master
  CommitID:6ef07151aac4b4d9601d547f94a996d1c71b3871

135798-135799 --> testing pass

Test environment and result as below:

+-----------------+---------------------------+----------------+
|   Environment   | cryptodev_sw_zuc_autotest | dpdk_unit_test |
+=================+===========================+================+
| Debian 11 (arm) | PASS                      | SKIPPED        |
+-----------------+---------------------------+----------------+
| Fedora 37 (ARM) | SKIPPED                   | PASS           |
+-----------------+---------------------------+----------------+
| Fedora 38 (ARM) | SKIPPED                   | PASS           |
+-----------------+---------------------------+----------------+


Debian 11 (arm)
	Kernel: Container Host Kernel
	Compiler: gcc 10.2.1

Fedora 37 (ARM)
	Kernel: Depends on container host
	Compiler: gcc 12.3.1

Fedora 38 (ARM)
	Kernel: Depends on container host
	Compiler: gcc 13.1.1

To view detailed results, visit:
https://lab.dpdk.org/results/dashboard/patchsets/28828/

UNH-IOL DPDK Community Lab

To manage your email subscriptions, visit: 
https://lab.dpdk.org/results/dashboard/preferences/subscriptions/


More information about the test-report mailing list