|SUCCESS| pw135849-135853 [PATCH] [V1,5/5] net/mlx5/hws: support VXL

dpdklab at iol.unh.edu dpdklab at iol.unh.edu
Fri Jan 12 12:56:48 CET 2024


Test-Label: iol-unit-arm64-testing
Test-Status: SUCCESS
http://dpdk.org/patch/135853

_Testing PASS_

Submitter: Gavin Li <gavinl at nvidia.com>
Date: Friday, January 12 2024 08:02:10 
DPDK git baseline: Repo:dpdk
  Branch: master
  CommitID:f5c53d694b306ff17e82c07dc16bdea483824ba2

135849-135853 --> testing pass

Test environment and result as below:

+--------------------------+----------------+
|       Environment        | dpdk_unit_test |
+==========================+================+
| Debian 11 (Buster) (ARM) | PASS           |
+--------------------------+----------------+
| Fedora 37 (ARM)          | PASS           |
+--------------------------+----------------+
| CentOS Stream 9 (ARM)    | PASS           |
+--------------------------+----------------+


Debian 11 (Buster) (ARM)
	Kernel: Container Host Kernel
	Compiler: gcc 10.2.1

Fedora 37 (ARM)
	Kernel: Depends on container host
	Compiler: gcc 12.3.1

CentOS Stream 9 (ARM)
	Kernel: Container Host Kernel
	Compiler: gcc 11.3.1

To view detailed results, visit:
https://lab.dpdk.org/results/dashboard/patchsets/28853/

UNH-IOL DPDK Community Lab

To manage your email subscriptions, visit: 
https://lab.dpdk.org/results/dashboard/preferences/subscriptions/


More information about the test-report mailing list