|SUCCESS| pw135855 [PATCH] net/tap: Modified TAP BPF program as per

dpdklab at iol.unh.edu dpdklab at iol.unh.edu
Fri Jan 12 15:44:06 CET 2024


Test-Label: iol-unit-arm64-testing
Test-Status: SUCCESS
http://dpdk.org/patch/135855

_Testing PASS_

Submitter: Madhuker Mythri <madhuker.mythri at oracle.com>
Date: Friday, January 12 2024 13:48:21 
DPDK git baseline: Repo:dpdk
  Branch: master
  CommitID:39a8b1251b204d3898b4c462184f60bda1b64698

135855 --> testing pass

Test environment and result as below:

+--------------------------+----------------+
|       Environment        | dpdk_unit_test |
+==========================+================+
| Debian 11 (Buster) (ARM) | PASS           |
+--------------------------+----------------+
| Fedora 37 (ARM)          | PASS           |
+--------------------------+----------------+
| CentOS Stream 9 (ARM)    | PASS           |
+--------------------------+----------------+


Debian 11 (Buster) (ARM)
	Kernel: Container Host Kernel
	Compiler: gcc 10.2.1

Fedora 37 (ARM)
	Kernel: Depends on container host
	Compiler: gcc 12.3.1

CentOS Stream 9 (ARM)
	Kernel: Container Host Kernel
	Compiler: gcc 11.3.1

To view detailed results, visit:
https://lab.dpdk.org/results/dashboard/patchsets/28855/

UNH-IOL DPDK Community Lab

To manage your email subscriptions, visit: 
https://lab.dpdk.org/results/dashboard/preferences/subscriptions/


More information about the test-report mailing list