|SUCCESS| [GIT MASTER] d4af9a82063e4c39568191eaa12955d3ca39581a

dpdklab at iol.unh.edu dpdklab at iol.unh.edu
Tue Jan 16 03:10:00 CET 2024


_Testing PASS_

Branch: dpdk

d4af9a82063e4c39568191eaa12955d3ca39581a --> testing pass

Test environment and result as below:

+-----------------------+---------------------------+------------------------------+----------------+
|      Environment      | cryptodev_sw_zuc_autotest | cryptodev_sw_snow3g_autotest | dpdk_unit_test |
+=======================+===========================+==============================+================+
| Debian 11 (arm)       | PASS                      | PASS                         | SKIPPED        |
+-----------------------+---------------------------+------------------------------+----------------+
| Fedora 37 (ARM)       | SKIPPED                   | SKIPPED                      | PASS           |
+-----------------------+---------------------------+------------------------------+----------------+
| CentOS Stream 9 (ARM) | SKIPPED                   | SKIPPED                      | PASS           |
+-----------------------+---------------------------+------------------------------+----------------+


Debian 11 (arm)
	Kernel: Container Host Kernel
	Compiler: gcc 10.2.1

Fedora 37 (ARM)
	Kernel: Depends on container host
	Compiler: gcc 12.3.1

CentOS Stream 9 (ARM)
	Kernel: Container Host Kernel
	Compiler: gcc 11.3.1

To view detailed results, visit:
https://lab.dpdk.org/results/dashboard/tarballs/27672/

UNH-IOL DPDK Community Lab

To manage your email subscriptions, visit: 
https://lab.dpdk.org/results/dashboard/preferences/subscriptions/


More information about the test-report mailing list