|SUCCESS| pw135880 [PATCH] [v2] bus/uacce: introduce UACCE bus
dpdklab at iol.unh.edu
dpdklab at iol.unh.edu
Tue Jan 16 05:22:38 CET 2024
Test-Label: iol-compile-amd64-testing
Test-Status: SUCCESS
http://dpdk.org/patch/135880
_Testing PASS_
Submitter: Chengwen Feng <fengchengwen at huawei.com>
Date: Tuesday, January 16 2024 03:35:43
DPDK git baseline: Repo:dpdk
Branch: master
CommitID:d4af9a82063e4c39568191eaa12955d3ca39581a
135880 --> testing pass
Test environment and result as below:
+---------------------+--------------------+
| Environment | dpdk_meson_compile |
+=====================+====================+
| Windows Server 2022 | PASS |
+---------------------+--------------------+
| CentOS Stream 8 | PASS |
+---------------------+--------------------+
| FreeBSD 13 | PASS |
+---------------------+--------------------+
| Debian Bullseye | PASS |
+---------------------+--------------------+
Windows Server 2022
Kernel: OS Build 20348.2031
Compiler: MSVC VS-Preview
CentOS Stream 8
Kernel: 4.18.0-240.10.1.el8_3.x86_64
Compiler: gcc 8.4.1 20200928
FreeBSD 13
Kernel: 13.0
Compiler: clang 11.0.1
Debian Bullseye
Kernel: 5.4.0-122-generic
Compiler: gcc 10.2.1-6
To view detailed results, visit:
https://lab.dpdk.org/results/dashboard/patchsets/28868/
UNH-IOL DPDK Community Lab
To manage your email subscriptions, visit:
https://lab.dpdk.org/results/dashboard/preferences/subscriptions/
More information about the test-report
mailing list