|SUCCESS| pw135880 [PATCH] [v2] bus/uacce: introduce UACCE bus
    dpdklab at iol.unh.edu 
    dpdklab at iol.unh.edu
       
    Tue Jan 16 05:38:17 CET 2024
    
    
  
Test-Label: iol-abi-testing
Test-Status: SUCCESS
http://dpdk.org/patch/135880
_Testing PASS_
Submitter: Chengwen Feng <fengchengwen at huawei.com>
Date: Tuesday, January 16 2024 03:35:43 
DPDK git baseline: Repo:dpdk
  Branch: master
  CommitID:d4af9a82063e4c39568191eaa12955d3ca39581a
135880 --> testing pass
Test environment and result as below:
+------------------+----------+
|   Environment    | abi_test |
+==================+==========+
| openSUSE Leap 15 | PASS     |
+------------------+----------+
| Ubuntu 22.04     | PASS     |
+------------------+----------+
| Fedora 38        | PASS     |
+------------------+----------+
openSUSE Leap 15
	Kernel: 4.18.0-240.10.1.el8_3.x86_64
	Compiler: gcc 7.5.0
Ubuntu 22.04
	Kernel: 4.18.0-240.10.1.el8_3.x86_64
	Compiler: gcc 11.3.0
Fedora 38
	Kernel: Depends on container host
	Compiler: clang 16.0.3
To view detailed results, visit:
https://lab.dpdk.org/results/dashboard/patchsets/28868/
UNH-IOL DPDK Community Lab
To manage your email subscriptions, visit: 
https://lab.dpdk.org/results/dashboard/preferences/subscriptions/
    
    
More information about the test-report
mailing list