|SUCCESS| pw135881 [PATCH] maintainers: update for i40e/iavf/idpf/cp
dpdklab at iol.unh.edu
dpdklab at iol.unh.edu
Tue Jan 16 08:50:16 CET 2024
Test-Label: iol-unit-arm64-testing
Test-Status: SUCCESS
http://dpdk.org/patch/135881
_Testing PASS_
Submitter: Xing, Beilei <beilei.xing at intel.com>
Date: Tuesday, January 16 2024 13:32:18
DPDK git baseline: Repo:dpdk
Branch: master
CommitID:d4af9a82063e4c39568191eaa12955d3ca39581a
135881 --> testing pass
Test environment and result as below:
+--------------------------+----------------+---------------------------+
| Environment | dpdk_unit_test | cryptodev_sw_zuc_autotest |
+==========================+================+===========================+
| Debian 11 (Buster) (ARM) | PASS | SKIPPED |
+--------------------------+----------------+---------------------------+
| Fedora 38 (ARM) | PASS | SKIPPED |
+--------------------------+----------------+---------------------------+
| CentOS Stream 9 (ARM) | PASS | SKIPPED |
+--------------------------+----------------+---------------------------+
| Debian 11 (arm) | SKIPPED | PASS |
+--------------------------+----------------+---------------------------+
Debian 11 (Buster) (ARM)
Kernel: Container Host Kernel
Compiler: gcc 10.2.1
Fedora 38 (ARM)
Kernel: Depends on container host
Compiler: gcc 13.1.1
CentOS Stream 9 (ARM)
Kernel: Container Host Kernel
Compiler: gcc 11.3.1
Debian 11 (arm)
Kernel: Container Host Kernel
Compiler: gcc 10.2.1
To view detailed results, visit:
https://lab.dpdk.org/results/dashboard/patchsets/28869/
UNH-IOL DPDK Community Lab
To manage your email subscriptions, visit:
https://lab.dpdk.org/results/dashboard/preferences/subscriptions/
More information about the test-report
mailing list