|SUCCESS| pw135932 [PATCH] [v2] doc: update LTS maintenance to 3 yea
dpdklab at iol.unh.edu
dpdklab at iol.unh.edu
Thu Jan 18 00:32:16 CET 2024
Test-Label: iol-abi-testing
Test-Status: SUCCESS
http://dpdk.org/patch/135932
_Testing PASS_
Submitter: Kevin Traynor <ktraynor at redhat.com>
Date: Wednesday, January 17 2024 16:24:19
DPDK git baseline: Repo:dpdk
Branch: master
CommitID:d4af9a82063e4c39568191eaa12955d3ca39581a
135932 --> testing pass
Test environment and result as below:
+-----------------+----------+
| Environment | abi_test |
+=================+==========+
| CentOS Stream 8 | PASS |
+-----------------+----------+
| Debian Bullseye | PASS |
+-----------------+----------+
| Fedora 37 | PASS |
+-----------------+----------+
| Debian Buster | PASS |
+-----------------+----------+
| CentOS Stream 9 | PASS |
+-----------------+----------+
CentOS Stream 8
Kernel: 4.18.0-240.10.1.el8_3.x86_64
Compiler: gcc 8.4.1 20200928
Debian Bullseye
Kernel: 5.4.0-122-generic
Compiler: gcc 10.2.1-6
Fedora 37
Kernel: Depends on container host system
Compiler: gcc 12.3.1
Debian Buster
Kernel: 5.4.0-122-generic
Compiler: gcc 8.3.0-6
CentOS Stream 9
Kernel: 4.18.0-240.10.1.el8_3.x86_64
Compiler: gcc 11.3.1 20220421
To view detailed results, visit:
https://lab.dpdk.org/results/dashboard/patchsets/28886/
UNH-IOL DPDK Community Lab
To manage your email subscriptions, visit:
https://lab.dpdk.org/results/dashboard/preferences/subscriptions/
More information about the test-report
mailing list