|SUCCESS| pw135931 [PATCH] doc: update LTS maintenance to 3 years
dpdklab at iol.unh.edu
dpdklab at iol.unh.edu
Thu Jan 18 01:11:52 CET 2024
Test-Label: iol-unit-arm64-testing
Test-Status: SUCCESS
http://dpdk.org/patch/135931
_Testing PASS_
Submitter: Kevin Traynor <ktraynor at redhat.com>
Date: Wednesday, January 17 2024 16:18:04
DPDK git baseline: Repo:dpdk
Branch: master
CommitID:d4af9a82063e4c39568191eaa12955d3ca39581a
135931 --> testing pass
Test environment and result as below:
+-----------------+---------------------------+------------------------------+----------------+
| Environment | cryptodev_sw_zuc_autotest | cryptodev_sw_snow3g_autotest | dpdk_unit_test |
+=================+===========================+==============================+================+
| Debian 11 (arm) | PASS | PASS | SKIPPED |
+-----------------+---------------------------+------------------------------+----------------+
| Fedora 38 (ARM) | SKIPPED | SKIPPED | PASS |
+-----------------+---------------------------+------------------------------+----------------+
Debian 11 (arm)
Kernel: Container Host Kernel
Compiler: gcc 10.2.1
Fedora 38 (ARM)
Kernel: Depends on container host
Compiler: gcc 13.1.1
To view detailed results, visit:
https://lab.dpdk.org/results/dashboard/patchsets/28885/
UNH-IOL DPDK Community Lab
To manage your email subscriptions, visit:
https://lab.dpdk.org/results/dashboard/preferences/subscriptions/
More information about the test-report
mailing list