|SUCCESS| pw135904-135927 [PATCH] [v3,24/24] crypto/cnxk: add CPT SG
    dpdklab at iol.unh.edu 
    dpdklab at iol.unh.edu
       
    Thu Jan 18 04:34:15 CET 2024
    
    
  
Test-Label: iol-compile-amd64-testing
Test-Status: SUCCESS
http://dpdk.org/patch/135927
_Testing PASS_
Submitter: Anoob Joseph <anoobj at marvell.com>
Date: Wednesday, January 17 2024 10:31:09 
DPDK git baseline: Repo:dpdk
  Branch: master
  CommitID:d4af9a82063e4c39568191eaa12955d3ca39581a
135904-135927 --> testing pass
Test environment and result as below:
+---------------------+--------------------+----------------------+
|     Environment     | dpdk_meson_compile | dpdk_mingw64_compile |
+=====================+====================+======================+
| Windows Server 2022 | PASS               | SKIPPED              |
+---------------------+--------------------+----------------------+
| FreeBSD 13          | PASS               | SKIPPED              |
+---------------------+--------------------+----------------------+
| Windows Server 2019 | PASS               | PASS                 |
+---------------------+--------------------+----------------------+
Windows Server 2022
	Kernel: OS Build 20348.2031
	Compiler: MSVC VS-Preview
FreeBSD 13
	Kernel: 13.0
	Compiler: clang 11.0.1
Windows Server 2019
	Kernel: 10.0
	Compiler: clang 14.0 and gcc 8.1.0 (MinGW)
To view detailed results, visit:
https://lab.dpdk.org/results/dashboard/patchsets/28882/
UNH-IOL DPDK Community Lab
To manage your email subscriptions, visit: 
https://lab.dpdk.org/results/dashboard/preferences/subscriptions/
    
    
More information about the test-report
mailing list