|SUCCESS| pw135949 [PATCH] vhost: fix deadlock during software live 
    dpdklab at iol.unh.edu 
    dpdklab at iol.unh.edu
       
    Thu Jan 18 16:05:38 CET 2024
    
    
  
Test-Label: iol-compile-amd64-testing
Test-Status: SUCCESS
http://dpdk.org/patch/135949
_Testing PASS_
Submitter: Hao Chen <chenh at yusur.tech>
Date: Thursday, January 18 2024 10:33:44 
DPDK git baseline: Repo:dpdk
  Branch: master
  CommitID:289ddcad152ebffa7359e414526707eb3f2c0a4a
135949 --> testing pass
Test environment and result as below:
+---------------------+--------------------+----------------------+
|     Environment     | dpdk_meson_compile | dpdk_mingw64_compile |
+=====================+====================+======================+
| FreeBSD 13          | PASS               | SKIPPED              |
+---------------------+--------------------+----------------------+
| Windows Server 2019 | PASS               | PASS                 |
+---------------------+--------------------+----------------------+
| Windows Server 2022 | PASS               | SKIPPED              |
+---------------------+--------------------+----------------------+
FreeBSD 13
	Kernel: 13.0
	Compiler: clang 11.0.1
Windows Server 2019
	Kernel: 10.0
	Compiler: clang 14.0 and gcc 8.1.0 (MinGW)
Windows Server 2022
	Kernel: OS Build 20348.2031
	Compiler: MSVC VS-Preview
To view detailed results, visit:
https://lab.dpdk.org/results/dashboard/patchsets/28897/
UNH-IOL DPDK Community Lab
To manage your email subscriptions, visit: 
https://lab.dpdk.org/results/dashboard/preferences/subscriptions/
    
    
More information about the test-report
mailing list