|SUCCESS| pw135991 [PATCH] [v3] eal: refactor rte_eal_init into sub-

dpdklab at iol.unh.edu dpdklab at iol.unh.edu
Fri Jan 19 23:43:12 CET 2024


Test-Label: iol-abi-testing
Test-Status: SUCCESS
http://dpdk.org/patch/135991

_Testing PASS_

Submitter: Rahul Gupta <rahulgupt at linux.microsoft.com>
Date: Friday, January 19 2024 16:58:17 
DPDK git baseline: Repo:dpdk
  Branch: master
  CommitID:515e1a4f4cddd33fcb35328a73449d30a8edfaf6

135991 --> testing pass

Test environment and result as below:

+-----------------+----------+
|   Environment   | abi_test |
+=================+==========+
| Fedora 38       | PASS     |
+-----------------+----------+
| Debian Buster   | PASS     |
+-----------------+----------+
| Debian Bullseye | PASS     |
+-----------------+----------+
| CentOS Stream 9 | PASS     |
+-----------------+----------+


Fedora 38
	Kernel: Depends on container host
	Compiler: clang 16.0.3

Debian Buster
	Kernel: 5.4.0-122-generic
	Compiler: gcc 8.3.0-6

Debian Bullseye
	Kernel: 5.4.0-122-generic
	Compiler: gcc 10.2.1-6

CentOS Stream 9
	Kernel: 4.18.0-240.10.1.el8_3.x86_64
	Compiler: gcc 11.3.1 20220421

To view detailed results, visit:
https://lab.dpdk.org/results/dashboard/patchsets/28914/

UNH-IOL DPDK Community Lab

To manage your email subscriptions, visit: 
https://lab.dpdk.org/results/dashboard/preferences/subscriptions/


More information about the test-report mailing list