|SUCCESS| pw135990 [PATCH] cryptodev: add a simple mapping cache to

dpdklab at iol.unh.edu dpdklab at iol.unh.edu
Sat Jan 20 02:10:16 CET 2024


Test-Label: iol-unit-amd64-testing
Test-Status: SUCCESS
http://dpdk.org/patch/135990

_Testing PASS_

Submitter: Andrew Boyer <Andrew.Boyer at amd.com>
Date: Friday, January 19 2024 16:41:22 
DPDK git baseline: Repo:dpdk
  Branch: master
  CommitID:30a988126ecee65a890a4b6a52690442024f2554

135990 --> testing pass

Test environment and result as below:

+---------------------+----------------+
|     Environment     | dpdk_unit_test |
+=====================+================+
| Windows Server 2019 | PASS           |
+---------------------+----------------+
| CentOS Stream 8     | PASS           |
+---------------------+----------------+
| Debian Bullseye     | PASS           |
+---------------------+----------------+


Windows Server 2019
	Kernel: 10.0
	Compiler: clang 14.0 and gcc 8.1.0 (MinGW)

CentOS Stream 8
	Kernel: 4.18.0-240.10.1.el8_3.x86_64
	Compiler: gcc 8.4.1 20200928

Debian Bullseye
	Kernel: 5.4.0-122-generic
	Compiler: gcc 10.2.1-6

To view detailed results, visit:
https://lab.dpdk.org/results/dashboard/patchsets/28913/

UNH-IOL DPDK Community Lab

To manage your email subscriptions, visit: 
https://lab.dpdk.org/results/dashboard/preferences/subscriptions/


More information about the test-report mailing list