|SUCCESS| pw136005 [PATCH] net/mana: rename mana_find_pmd_mr() to ma
dpdklab at iol.unh.edu
dpdklab at iol.unh.edu
Sat Jan 20 04:20:28 CET 2024
Test-Label: iol-compile-amd64-testing
Test-Status: SUCCESS
http://dpdk.org/patch/136005
_Testing PASS_
Submitter: Long Li <longli at linuxonhyperv.com>
Date: Saturday, January 20 2024 00:55:35
DPDK git baseline: Repo:dpdk
Branch: master
CommitID:39a8b1251b204d3898b4c462184f60bda1b64698
136005 --> testing pass
Test environment and result as below:
+---------------------+--------------------+----------------------+
| Environment | dpdk_meson_compile | dpdk_mingw64_compile |
+=====================+====================+======================+
| Windows Server 2022 | PASS | SKIPPED |
+---------------------+--------------------+----------------------+
| FreeBSD 13 | PASS | SKIPPED |
+---------------------+--------------------+----------------------+
| Windows Server 2019 | PASS | PASS |
+---------------------+--------------------+----------------------+
| CentOS Stream 9 | PASS | SKIPPED |
+---------------------+--------------------+----------------------+
| CentOS Stream 8 | PASS | SKIPPED |
+---------------------+--------------------+----------------------+
| openSUSE Leap 15 | PASS | SKIPPED |
+---------------------+--------------------+----------------------+
| Fedora 38 | PASS | SKIPPED |
+---------------------+--------------------+----------------------+
| Debian Buster | PASS | SKIPPED |
+---------------------+--------------------+----------------------+
| Debian Bullseye | PASS | SKIPPED |
+---------------------+--------------------+----------------------+
Windows Server 2022
Kernel: OS Build 20348.2031
Compiler: MSVC VS-Preview
FreeBSD 13
Kernel: 13.0
Compiler: clang 11.0.1
Windows Server 2019
Kernel: 10.0
Compiler: clang 14.0 and gcc 8.1.0 (MinGW)
CentOS Stream 9
Kernel: 4.18.0-240.10.1.el8_3.x86_64
Compiler: gcc 11.3.1 20220421
CentOS Stream 8
Kernel: 4.18.0-240.10.1.el8_3.x86_64
Compiler: gcc 8.4.1 20200928
openSUSE Leap 15
Kernel: 4.18.0-240.10.1.el8_3.x86_64
Compiler: gcc 7.5.0
Fedora 38
Kernel: Depends on container host
Compiler: gcc 13.1.1
Debian Buster
Kernel: 5.4.0-122-generic
Compiler: gcc 8.3.0-6
Debian Bullseye
Kernel: 5.4.0-122-generic
Compiler: gcc 10.2.1-6
To view detailed results, visit:
https://lab.dpdk.org/results/dashboard/patchsets/28918/
UNH-IOL DPDK Community Lab
To manage your email subscriptions, visit:
https://lab.dpdk.org/results/dashboard/preferences/subscriptions/
More information about the test-report
mailing list