|SUCCESS| pw136008 [PATCH] [v2] lib/telemetry:fix telemetry conns le
dpdklab at iol.unh.edu
dpdklab at iol.unh.edu
Sun Jan 21 08:56:29 CET 2024
Test-Label: iol-abi-testing
Test-Status: SUCCESS
http://dpdk.org/patch/136008
_Testing PASS_
Submitter: Shaowei Sun <1819846787 at qq.com>
Date: Saturday, January 20 2024 08:58:32
DPDK git baseline: Repo:dpdk
Branch: master
CommitID:515e1a4f4cddd33fcb35328a73449d30a8edfaf6
136008 --> testing pass
Test environment and result as below:
+------------------+----------+
| Environment | abi_test |
+==================+==========+
| Debian Bullseye | PASS |
+------------------+----------+
| CentOS Stream 9 | PASS |
+------------------+----------+
| openSUSE Leap 15 | PASS |
+------------------+----------+
| Debian Buster | PASS |
+------------------+----------+
| Fedora 38 | PASS |
+------------------+----------+
| CentOS Stream 8 | PASS |
+------------------+----------+
Debian Bullseye
Kernel: 5.4.0-122-generic
Compiler: gcc 10.2.1-6
CentOS Stream 9
Kernel: 4.18.0-240.10.1.el8_3.x86_64
Compiler: gcc 11.3.1 20220421
openSUSE Leap 15
Kernel: 4.18.0-240.10.1.el8_3.x86_64
Compiler: gcc 7.5.0
Debian Buster
Kernel: 5.4.0-122-generic
Compiler: gcc 8.3.0-6
Fedora 38
Kernel: Depends on container host
Compiler: gcc 13.1.1
CentOS Stream 8
Kernel: 4.18.0-240.10.1.el8_3.x86_64
Compiler: gcc 8.4.1 20200928
To view detailed results, visit:
https://lab.dpdk.org/results/dashboard/patchsets/28921/
UNH-IOL DPDK Community Lab
To manage your email subscriptions, visit:
https://lab.dpdk.org/results/dashboard/preferences/subscriptions/
More information about the test-report
mailing list