|SUCCESS| pw136007 [PATCH] [v2] lib/telemetry:fix telemetry conns le
dpdklab at iol.unh.edu
dpdklab at iol.unh.edu
Sun Jan 21 09:09:28 CET 2024
Test-Label: iol-compile-amd64-testing
Test-Status: SUCCESS
http://dpdk.org/patch/136007
_Testing PASS_
Submitter: Shaowei Sun <1819846787 at qq.com>
Date: Saturday, January 20 2024 08:50:54
DPDK git baseline: Repo:dpdk
Branch: master
CommitID:515e1a4f4cddd33fcb35328a73449d30a8edfaf6
136007 --> testing pass
Test environment and result as below:
+---------------------+--------------------+
| Environment | dpdk_meson_compile |
+=====================+====================+
| FreeBSD 13 | PASS |
+---------------------+--------------------+
| Windows Server 2022 | PASS |
+---------------------+--------------------+
| Windows Server 2019 | PASS |
+---------------------+--------------------+
FreeBSD 13
Kernel: 13.0
Compiler: clang 11.0.1
Windows Server 2022
Kernel: OS Build 20348.2031
Compiler: MSVC VS-Preview
Windows Server 2019
Kernel: 10.0
Compiler: clang 14.0 and gcc 8.1.0 (MinGW)
To view detailed results, visit:
https://lab.dpdk.org/results/dashboard/patchsets/28920/
UNH-IOL DPDK Community Lab
To manage your email subscriptions, visit:
https://lab.dpdk.org/results/dashboard/preferences/subscriptions/
More information about the test-report
mailing list