|SUCCESS| pw136014-136015 [PATCH] [v3,2/2] net/octeon_ep: add Rx NEO
    dpdklab at iol.unh.edu 
    dpdklab at iol.unh.edu
       
    Sun Jan 21 18:48:34 CET 2024
    
    
  
Test-Label: iol-abi-testing
Test-Status: SUCCESS
http://dpdk.org/patch/136015
_Testing PASS_
Submitter: Pavan Nikhilesh Bhagavatula <pbhagavatula at marvell.com>
Date: Sunday, January 21 2024 16:43:34 
DPDK git baseline: Repo:dpdk
  Branch: master
  CommitID:019c31d7089944f5d9715d6af263f73886359e06
136014-136015 --> testing pass
Test environment and result as below:
+------------------+----------+
|   Environment    | abi_test |
+==================+==========+
| Fedora 38        | PASS     |
+------------------+----------+
| Debian Buster    | PASS     |
+------------------+----------+
| openSUSE Leap 15 | PASS     |
+------------------+----------+
Fedora 38
	Kernel: Depends on container host
	Compiler: clang 16.0.3
Debian Buster
	Kernel: 5.4.0-122-generic
	Compiler: gcc 8.3.0-6
openSUSE Leap 15
	Kernel: 4.18.0-240.10.1.el8_3.x86_64
	Compiler: gcc 7.5.0
To view detailed results, visit:
https://lab.dpdk.org/results/dashboard/patchsets/28925/
UNH-IOL DPDK Community Lab
To manage your email subscriptions, visit: 
https://lab.dpdk.org/results/dashboard/preferences/subscriptions/
    
    
More information about the test-report
mailing list