|SUCCESS| pw136016 [PATCH] [v4,1/1] ethdev: parsing multiple represe

dpdklab at iol.unh.edu dpdklab at iol.unh.edu
Sun Jan 21 21:15:30 CET 2024


Test-Label: iol-unit-arm64-testing
Test-Status: SUCCESS
http://dpdk.org/patch/136016

_Testing PASS_

Submitter: Harman Kalra <hkalra at marvell.com>
Date: Sunday, January 21 2024 19:19:08 
DPDK git baseline: Repo:dpdk
  Branch: master
  CommitID:39a8b1251b204d3898b4c462184f60bda1b64698

136016 --> testing pass

Test environment and result as below:

+--------------------------+------------------------------+----------------+---------------------------+
|       Environment        | cryptodev_sw_snow3g_autotest | dpdk_unit_test | cryptodev_sw_zuc_autotest |
+==========================+==============================+================+===========================+
| Debian 11 (arm)          | PASS                         | SKIPPED        | PASS                      |
+--------------------------+------------------------------+----------------+---------------------------+
| Debian 11 (Buster) (ARM) | SKIPPED                      | PASS           | SKIPPED                   |
+--------------------------+------------------------------+----------------+---------------------------+


Debian 11 (arm)
	Kernel: Container Host Kernel
	Compiler: gcc 10.2.1

Debian 11 (Buster) (ARM)
	Kernel: Container Host Kernel
	Compiler: gcc 10.2.1

To view detailed results, visit:
https://lab.dpdk.org/results/dashboard/patchsets/28926/

UNH-IOL DPDK Community Lab

To manage your email subscriptions, visit: 
https://lab.dpdk.org/results/dashboard/preferences/subscriptions/


More information about the test-report mailing list