|SUCCESS| pw136017 [PATCH] [v2] vhost: fix deadlock during software

dpdklab at iol.unh.edu dpdklab at iol.unh.edu
Mon Jan 22 05:17:58 CET 2024


Test-Label: iol-unit-arm64-testing
Test-Status: SUCCESS
http://dpdk.org/patch/136017

_Testing PASS_

Submitter: Hao Chen <chenh at yusur.tech>
Date: Monday, January 22 2024 03:27:44 
DPDK git baseline: Repo:dpdk
  Branch: master
  CommitID:289ddcad152ebffa7359e414526707eb3f2c0a4a

136017 --> testing pass

Test environment and result as below:

+-----------------------+---------------------------+----------------+
|      Environment      | cryptodev_sw_zuc_autotest | dpdk_unit_test |
+=======================+===========================+================+
| Debian 11 (arm)       | PASS                      | SKIPPED        |
+-----------------------+---------------------------+----------------+
| CentOS Stream 9 (ARM) | SKIPPED                   | PASS           |
+-----------------------+---------------------------+----------------+
| Fedora 37 (ARM)       | SKIPPED                   | PASS           |
+-----------------------+---------------------------+----------------+


Debian 11 (arm)
	Kernel: Container Host Kernel
	Compiler: gcc 10.2.1

CentOS Stream 9 (ARM)
	Kernel: Container Host Kernel
	Compiler: gcc 11.3.1

Fedora 37 (ARM)
	Kernel: Depends on container host
	Compiler: gcc 12.3.1

To view detailed results, visit:
https://lab.dpdk.org/results/dashboard/patchsets/28927/

UNH-IOL DPDK Community Lab

To manage your email subscriptions, visit: 
https://lab.dpdk.org/results/dashboard/preferences/subscriptions/


More information about the test-report mailing list