|SUCCESS| pw136017 [PATCH] [v2] vhost: fix deadlock during software

dpdklab at iol.unh.edu dpdklab at iol.unh.edu
Mon Jan 22 05:37:44 CET 2024


Test-Label: iol-abi-testing
Test-Status: SUCCESS
http://dpdk.org/patch/136017

_Testing PASS_

Submitter: Hao Chen <chenh at yusur.tech>
Date: Monday, January 22 2024 03:27:44 
DPDK git baseline: Repo:dpdk
  Branch: master
  CommitID:289ddcad152ebffa7359e414526707eb3f2c0a4a

136017 --> testing pass

Test environment and result as below:

+------------------+----------+
|   Environment    | abi_test |
+==================+==========+
| Fedora 38        | PASS     |
+------------------+----------+
| RHEL8            | PASS     |
+------------------+----------+
| openSUSE Leap 15 | PASS     |
+------------------+----------+
| Debian Buster    | PASS     |
+------------------+----------+
| Debian Bullseye  | PASS     |
+------------------+----------+


Fedora 38
	Kernel: Depends on container host
	Compiler: clang 16.0.3

RHEL8
	Kernel: 4.18.0-240.10.1.el8_3.x86_64
	Compiler: gcc 8.3.1 20191121 (Red Hat 8.3.1-5)

openSUSE Leap 15
	Kernel: 4.18.0-240.10.1.el8_3.x86_64
	Compiler: gcc 7.5.0

Debian Buster
	Kernel: 5.4.0-122-generic
	Compiler: gcc 8.3.0-6

Debian Bullseye
	Kernel: 5.4.0-122-generic
	Compiler: gcc 10.2.1-6

To view detailed results, visit:
https://lab.dpdk.org/results/dashboard/patchsets/28927/

UNH-IOL DPDK Community Lab

To manage your email subscriptions, visit: 
https://lab.dpdk.org/results/dashboard/preferences/subscriptions/


More information about the test-report mailing list