|SUCCESS| [GIT MASTER] 4307659a904eb9c9b60240256857228f77a0b97e
    dpdklab at iol.unh.edu 
    dpdklab at iol.unh.edu
       
    Mon Jan 22 07:46:46 CET 2024
    
    
  
_Testing PASS_
Branch: tags/v22.11
4307659a904eb9c9b60240256857228f77a0b97e --> testing pass
Test environment and result as below:
+-----------------------+--------------------+
|      Environment      | dpdk_meson_compile |
+=======================+====================+
| Ubuntu 20.04 ARM SVE  | PASS               |
+-----------------------+--------------------+
| Fedora 38 (ARM)       | PASS               |
+-----------------------+--------------------+
| Fedora 37 (ARM)       | PASS               |
+-----------------------+--------------------+
| CentOS Stream 9 (ARM) | PASS               |
+-----------------------+--------------------+
| Ubuntu 20.04 (ARM)    | PASS               |
+-----------------------+--------------------+
Ubuntu 20.04 ARM SVE
	Kernel: 5.4.0-80-generic
	Compiler: gcc 10.3.0 (Ubuntu 10.3.0-1ubuntu1~20.04)
Fedora 38 (ARM)
	Kernel: Depends on container host
	Compiler: gcc 13.1.1
Fedora 37 (ARM)
	Kernel: Depends on container host
	Compiler: gcc 12.3.1
CentOS Stream 9 (ARM)
	Kernel: Container Host Kernel
	Compiler: gcc 11.3.1
Ubuntu 20.04 (ARM)
	Kernel: Container Host Kernel
	Compiler: gcc 9.4.0
To view detailed results, visit:
https://lab.dpdk.org/results/dashboard/tarballs/27758/
UNH-IOL DPDK Community Lab
To manage your email subscriptions, visit: 
https://lab.dpdk.org/results/dashboard/preferences/subscriptions/
    
    
More information about the test-report
mailing list