|SUCCESS| pw136030 [PATCH] [v1] net/mlx5: fix secondary process quer

dpdklab at iol.unh.edu dpdklab at iol.unh.edu
Mon Jan 22 09:36:36 CET 2024


Test-Label: iol-compile-arm64-testing
Test-Status: SUCCESS
http://dpdk.org/patch/136030

_Testing PASS_

Submitter: Rongwei Liu <rongweil at nvidia.com>
Date: Monday, January 22 2024 07:44:05 
DPDK git baseline: Repo:dpdk
  Branch: master
  CommitID:2c4a4e999aae115861fba3ae39da684f66de1146

136030 --> testing pass

Test environment and result as below:

+----------------------+--------------------+
|     Environment      | dpdk_meson_compile |
+======================+====================+
| Ubuntu 20.04 ARM SVE | PASS               |
+----------------------+--------------------+
| Fedora 38 (ARM)      | PASS               |
+----------------------+--------------------+
| Fedora 37 (ARM)      | PASS               |
+----------------------+--------------------+
| Ubuntu 20.04 (ARM)   | PASS               |
+----------------------+--------------------+


Ubuntu 20.04 ARM SVE
	Kernel: 5.4.0-80-generic
	Compiler: gcc 10.3.0 (Ubuntu 10.3.0-1ubuntu1~20.04)

Fedora 38 (ARM)
	Kernel: Depends on container host
	Compiler: gcc 13.1.1

Fedora 37 (ARM)
	Kernel: Depends on container host
	Compiler: gcc 12.3.1

Ubuntu 20.04 (ARM)
	Kernel: Container Host Kernel
	Compiler: gcc 9.4.0

To view detailed results, visit:
https://lab.dpdk.org/results/dashboard/patchsets/28929/

UNH-IOL DPDK Community Lab

To manage your email subscriptions, visit: 
https://lab.dpdk.org/results/dashboard/preferences/subscriptions/


More information about the test-report mailing list