|SUCCESS| pw136030 [PATCH] [v1] net/mlx5: fix secondary process quer
dpdklab at iol.unh.edu
dpdklab at iol.unh.edu
Mon Jan 22 09:38:18 CET 2024
Test-Label: iol-abi-testing
Test-Status: SUCCESS
http://dpdk.org/patch/136030
_Testing PASS_
Submitter: Rongwei Liu <rongweil at nvidia.com>
Date: Monday, January 22 2024 07:44:05
DPDK git baseline: Repo:dpdk
Branch: master
CommitID:2c4a4e999aae115861fba3ae39da684f66de1146
136030 --> testing pass
Test environment and result as below:
+------------------+----------+
| Environment | abi_test |
+==================+==========+
| CentOS Stream 9 | PASS |
+------------------+----------+
| Fedora 37 | PASS |
+------------------+----------+
| openSUSE Leap 15 | PASS |
+------------------+----------+
CentOS Stream 9
Kernel: 4.18.0-240.10.1.el8_3.x86_64
Compiler: gcc 11.3.1 20220421
Fedora 37
Kernel: Depends on container host system
Compiler: gcc 12.3.1
openSUSE Leap 15
Kernel: 4.18.0-240.10.1.el8_3.x86_64
Compiler: gcc 7.5.0
To view detailed results, visit:
https://lab.dpdk.org/results/dashboard/patchsets/28929/
UNH-IOL DPDK Community Lab
To manage your email subscriptions, visit:
https://lab.dpdk.org/results/dashboard/preferences/subscriptions/
More information about the test-report
mailing list