|SUCCESS| pw136049-136055 [PATCH] [7/7] net/gve: update GVE document
dpdklab at iol.unh.edu
dpdklab at iol.unh.edu
Tue Jan 23 02:09:48 CET 2024
Test-Label: iol-abi-testing
Test-Status: SUCCESS
http://dpdk.org/patch/136055
_Testing PASS_
Submitter: Joshua Washington <joshwash at google.com>
Date: Tuesday, January 23 2024 00:16:44
DPDK git baseline: Repo:dpdk
Branch: master
CommitID:bd7063756123e4ecf9915989710729f94dc1757b
136049-136055 --> testing pass
Test environment and result as below:
+-----------------+----------+
| Environment | abi_test |
+=================+==========+
| Ubuntu 22.04 | PASS |
+-----------------+----------+
| CentOS Stream 8 | PASS |
+-----------------+----------+
| Debian Buster | PASS |
+-----------------+----------+
Ubuntu 22.04
Kernel: 4.18.0-240.10.1.el8_3.x86_64
Compiler: gcc 11.3.0
CentOS Stream 8
Kernel: 4.18.0-240.10.1.el8_3.x86_64
Compiler: gcc 8.4.1 20200928
Debian Buster
Kernel: 5.4.0-122-generic
Compiler: gcc 8.3.0-6
To view detailed results, visit:
https://lab.dpdk.org/results/dashboard/patchsets/28935/
UNH-IOL DPDK Community Lab
To manage your email subscriptions, visit:
https://lab.dpdk.org/results/dashboard/preferences/subscriptions/
More information about the test-report
mailing list