|SUCCESS| pw136070-136076 [PATCH] [v2,7/7] net/gve: update GVE docum

dpdklab at iol.unh.edu dpdklab at iol.unh.edu
Tue Jan 23 20:51:31 CET 2024


Test-Label: iol-abi-testing
Test-Status: SUCCESS
http://dpdk.org/patch/136076

_Testing PASS_

Submitter: Joshua Washington <joshwash at google.com>
Date: Tuesday, January 23 2024 17:58:30 
DPDK git baseline: Repo:dpdk
  Branch: master
  CommitID:1b593b0c092a0e905cb1c05ba01acb6690fb0db2

136070-136076 --> testing pass

Test environment and result as below:

+------------------+----------+
|   Environment    | abi_test |
+==================+==========+
| CentOS Stream 8  | PASS     |
+------------------+----------+
| openSUSE Leap 15 | PASS     |
+------------------+----------+
| CentOS Stream 9  | PASS     |
+------------------+----------+


CentOS Stream 8
	Kernel: 4.18.0-240.10.1.el8_3.x86_64
	Compiler: gcc 8.4.1 20200928

openSUSE Leap 15
	Kernel: 4.18.0-240.10.1.el8_3.x86_64
	Compiler: gcc 7.5.0

CentOS Stream 9
	Kernel: 4.18.0-240.10.1.el8_3.x86_64
	Compiler: gcc 11.3.1 20220421

To view detailed results, visit:
https://lab.dpdk.org/results/dashboard/patchsets/28939/

UNH-IOL DPDK Community Lab

To manage your email subscriptions, visit: 
https://lab.dpdk.org/results/dashboard/preferences/subscriptions/


More information about the test-report mailing list