|SUCCESS| pw136070-136076 [PATCH] [v2,7/7] net/gve: update GVE docum

dpdklab at iol.unh.edu dpdklab at iol.unh.edu
Tue Jan 23 20:59:49 CET 2024


Test-Label: iol-unit-arm64-testing
Test-Status: SUCCESS
http://dpdk.org/patch/136076

_Testing PASS_

Submitter: Joshua Washington <joshwash at google.com>
Date: Tuesday, January 23 2024 17:58:30 
DPDK git baseline: Repo:dpdk
  Branch: master
  CommitID:1b593b0c092a0e905cb1c05ba01acb6690fb0db2

136070-136076 --> testing pass

Test environment and result as below:

+--------------------------+------------------------------+----------------+---------------------------+--------------+
|       Environment        | cryptodev_sw_snow3g_autotest | dpdk_unit_test | cryptodev_sw_zuc_autotest | lpm_autotest |
+==========================+==============================+================+===========================+==============+
| Debian 11 (arm)          | PASS                         | SKIPPED        | PASS                      | SKIPPED      |
+--------------------------+------------------------------+----------------+---------------------------+--------------+
| Debian 11 (Buster) (ARM) | SKIPPED                      | PASS           | SKIPPED                   | SKIPPED      |
+--------------------------+------------------------------+----------------+---------------------------+--------------+
| CentOS Stream 9 (ARM)    | SKIPPED                      | PASS           | SKIPPED                   | SKIPPED      |
+--------------------------+------------------------------+----------------+---------------------------+--------------+
| Fedora 37 (ARM)          | SKIPPED                      | PASS           | SKIPPED                   | SKIPPED      |
+--------------------------+------------------------------+----------------+---------------------------+--------------+
| Fedora 38 (ARM)          | SKIPPED                      | PASS           | SKIPPED                   | SKIPPED      |
+--------------------------+------------------------------+----------------+---------------------------+--------------+
| Ubuntu 20.04 ARM SVE     | SKIPPED                      | SKIPPED        | SKIPPED                   | PASS         |
+--------------------------+------------------------------+----------------+---------------------------+--------------+


Debian 11 (arm)
	Kernel: Container Host Kernel
	Compiler: gcc 10.2.1

Debian 11 (Buster) (ARM)
	Kernel: Container Host Kernel
	Compiler: gcc 10.2.1

CentOS Stream 9 (ARM)
	Kernel: Container Host Kernel
	Compiler: gcc 11.3.1

Fedora 37 (ARM)
	Kernel: Depends on container host
	Compiler: gcc 12.3.1

Fedora 38 (ARM)
	Kernel: Depends on container host
	Compiler: gcc 13.1.1

Ubuntu 20.04 ARM SVE
	Kernel: 5.4.0-80-generic
	Compiler: gcc 10.3.0 (Ubuntu 10.3.0-1ubuntu1~20.04)

To view detailed results, visit:
https://lab.dpdk.org/results/dashboard/patchsets/28939/

UNH-IOL DPDK Community Lab

To manage your email subscriptions, visit: 
https://lab.dpdk.org/results/dashboard/preferences/subscriptions/


More information about the test-report mailing list