|SUCCESS| pw136100 [PATCH] [v5] mempool: test performance with large

dpdklab at iol.unh.edu dpdklab at iol.unh.edu
Wed Jan 24 14:43:27 CET 2024


Test-Label: iol-unit-arm64-testing
Test-Status: SUCCESS
http://dpdk.org/patch/136100

_Testing PASS_

Submitter: Morten Brorup <mb at smartsharesystems.com>
Date: Wednesday, January 24 2024 11:21:34 
DPDK git baseline: Repo:dpdk
  Branch: master
  CommitID:0c4a63ce783f55df6b43e519201474c56b5cce36

136100 --> testing pass

Test environment and result as below:

+--------------------------+----------------+
|       Environment        | dpdk_unit_test |
+==========================+================+
| Debian 11 (Buster) (ARM) | PASS           |
+--------------------------+----------------+
| CentOS Stream 9 (ARM)    | PASS           |
+--------------------------+----------------+
| Fedora 38 (ARM)          | PASS           |
+--------------------------+----------------+


Debian 11 (Buster) (ARM)
	Kernel: Container Host Kernel
	Compiler: gcc 10.2.1

CentOS Stream 9 (ARM)
	Kernel: Container Host Kernel
	Compiler: gcc 11.3.1

Fedora 38 (ARM)
	Kernel: Depends on container host
	Compiler: gcc 13.1.1

To view detailed results, visit:
https://lab.dpdk.org/results/dashboard/patchsets/28948/

UNH-IOL DPDK Community Lab

To manage your email subscriptions, visit: 
https://lab.dpdk.org/results/dashboard/preferences/subscriptions/


More information about the test-report mailing list