|SUCCESS| pw136103 [PATCH] test/event: skip test if no driver is pre

dpdklab at iol.unh.edu dpdklab at iol.unh.edu
Wed Jan 24 20:03:34 CET 2024


Test-Label: iol-unit-arm64-testing
Test-Status: SUCCESS
http://dpdk.org/patch/136103

_Testing PASS_

Submitter: David Marchand <david.marchand at redhat.com>
Date: Wednesday, January 24 2024 12:33:38 
DPDK git baseline: Repo:dpdk
  Branch: master
  CommitID:1ba846683ee02b797c14854dc818c8ebad872071

136103 --> testing pass

Test environment and result as below:

+-----------------------+---------------------------+------------------------------+----------------+
|      Environment      | cryptodev_sw_zuc_autotest | cryptodev_sw_snow3g_autotest | dpdk_unit_test |
+=======================+===========================+==============================+================+
| Debian 11 (arm)       | PASS                      | PASS                         | SKIPPED        |
+-----------------------+---------------------------+------------------------------+----------------+
| CentOS Stream 9 (ARM) | SKIPPED                   | SKIPPED                      | PASS           |
+-----------------------+---------------------------+------------------------------+----------------+


Debian 11 (arm)
	Kernel: Container Host Kernel
	Compiler: gcc 10.2.1

CentOS Stream 9 (ARM)
	Kernel: Container Host Kernel
	Compiler: gcc 11.3.1

To view detailed results, visit:
https://lab.dpdk.org/results/dashboard/patchsets/28951/

UNH-IOL DPDK Community Lab

To manage your email subscriptions, visit: 
https://lab.dpdk.org/results/dashboard/preferences/subscriptions/


More information about the test-report mailing list