|SUCCESS| pw136130 [PATCH] net/mana: use rte_pktmbuf_alloc_bulk for

dpdklab at iol.unh.edu dpdklab at iol.unh.edu
Thu Jan 25 04:37:15 CET 2024


Test-Label: iol-abi-testing
Test-Status: SUCCESS
http://dpdk.org/patch/136130

_Testing PASS_

Submitter: Long Li <longli at linuxonhyperv.com>
Date: Thursday, January 25 2024 02:42:42 
DPDK git baseline: Repo:dpdk
  Branch: master
  CommitID:6676a3793b4292baf606092a8e3e14ea67550c58

136130 --> testing pass

Test environment and result as below:

+-----------------+----------+
|   Environment   | abi_test |
+=================+==========+
| Debian Bullseye | PASS     |
+-----------------+----------+
| Debian Buster   | PASS     |
+-----------------+----------+
| Ubuntu 22.04    | PASS     |
+-----------------+----------+
| Fedora 38       | PASS     |
+-----------------+----------+


Debian Bullseye
	Kernel: 5.4.0-122-generic
	Compiler: gcc 10.2.1-6

Debian Buster
	Kernel: 5.4.0-122-generic
	Compiler: gcc 8.3.0-6

Ubuntu 22.04
	Kernel: 4.18.0-240.10.1.el8_3.x86_64
	Compiler: gcc 11.3.0

Fedora 38
	Kernel: Depends on container host
	Compiler: clang 16.0.3

To view detailed results, visit:
https://lab.dpdk.org/results/dashboard/patchsets/28960/

UNH-IOL DPDK Community Lab

To manage your email subscriptions, visit: 
https://lab.dpdk.org/results/dashboard/preferences/subscriptions/


More information about the test-report mailing list