|SUCCESS| pw136133-136140 [PATCH] [v2,8/8] examples/dma: replace get

dpdklab at iol.unh.edu dpdklab at iol.unh.edu
Thu Jan 25 14:25:09 CET 2024


Test-Label: iol-unit-arm64-testing
Test-Status: SUCCESS
http://dpdk.org/patch/136140

_Testing PASS_

Submitter: fengchengwen <fengchengwen at huawei.com>
Date: Thursday, January 25 2024 11:52:29 
DPDK git baseline: Repo:dpdk
  Branch: master
  CommitID:2ecc673e5e9a19850ba76d6a976596890f2dade1

136133-136140 --> testing pass

Test environment and result as below:

+--------------------------+------------------------------+----------------+
|       Environment        | cryptodev_sw_snow3g_autotest | dpdk_unit_test |
+==========================+==============================+================+
| Debian 11 (arm)          | PASS                         | SKIPPED        |
+--------------------------+------------------------------+----------------+
| Debian 11 (Buster) (ARM) | SKIPPED                      | PASS           |
+--------------------------+------------------------------+----------------+
| Fedora 37 (ARM)          | SKIPPED                      | PASS           |
+--------------------------+------------------------------+----------------+
| Fedora 38 (ARM Clang)    | SKIPPED                      | PASS           |
+--------------------------+------------------------------+----------------+


Debian 11 (arm)
	Kernel: Container Host Kernel
	Compiler: gcc 10.2.1

Debian 11 (Buster) (ARM)
	Kernel: Container Host Kernel
	Compiler: gcc 10.2.1

Fedora 37 (ARM)
	Kernel: Depends on container host
	Compiler: gcc 12.3.1

Fedora 38 (ARM Clang)
	Kernel: Depends on container host
	Compiler: clang 16.0.3

To view detailed results, visit:
https://lab.dpdk.org/results/dashboard/patchsets/28963/

UNH-IOL DPDK Community Lab

To manage your email subscriptions, visit: 
https://lab.dpdk.org/results/dashboard/preferences/subscriptions/


More information about the test-report mailing list