|SUCCESS| pw136143 [PATCH] [v2] lib: remove duplicate prefix in logs
dpdklab at iol.unh.edu
dpdklab at iol.unh.edu
Thu Jan 25 18:38:16 CET 2024
Test-Label: iol-compile-arm64-testing
Test-Status: SUCCESS
http://dpdk.org/patch/136143
_Testing PASS_
Submitter: David Marchand <david.marchand at redhat.com>
Date: Thursday, January 25 2024 12:55:50
DPDK git baseline: Repo:dpdk
Branch: master
CommitID:2ecc673e5e9a19850ba76d6a976596890f2dade1
136143 --> testing pass
Test environment and result as below:
+--------------------------+--------------------+
| Environment | dpdk_meson_compile |
+==========================+====================+
| Ubuntu 20.04 ARM SVE | PASS |
+--------------------------+--------------------+
| Fedora 37 (ARM) | PASS |
+--------------------------+--------------------+
| Fedora 38 (ARM) | PASS |
+--------------------------+--------------------+
| Debian 11 (Buster) (ARM) | PASS |
+--------------------------+--------------------+
Ubuntu 20.04 ARM SVE
Kernel: 5.4.0-80-generic
Compiler: gcc 10.3.0 (Ubuntu 10.3.0-1ubuntu1~20.04)
Fedora 37 (ARM)
Kernel: Depends on container host
Compiler: gcc 12.3.1
Fedora 38 (ARM)
Kernel: Depends on container host
Compiler: gcc 13.1.1
Debian 11 (Buster) (ARM)
Kernel: Container Host Kernel
Compiler: gcc 10.2.1
To view detailed results, visit:
https://lab.dpdk.org/results/dashboard/patchsets/28965/
UNH-IOL DPDK Community Lab
To manage your email subscriptions, visit:
https://lab.dpdk.org/results/dashboard/preferences/subscriptions/
More information about the test-report
mailing list