|SUCCESS| [GIT MASTER] 2ecc673e5e9a19850ba76d6a976596890f2dade1

dpdklab at iol.unh.edu dpdklab at iol.unh.edu
Fri Jan 26 03:05:28 CET 2024


_Testing PASS_

Branch: dpdk

2ecc673e5e9a19850ba76d6a976596890f2dade1 --> testing pass

Test environment and result as below:

+-----------------------+---------------------------+------------------------------+----------------+
|      Environment      | cryptodev_sw_zuc_autotest | cryptodev_sw_snow3g_autotest | dpdk_unit_test |
+=======================+===========================+==============================+================+
| Debian 11 (arm)       | PASS                      | PASS                         | SKIPPED        |
+-----------------------+---------------------------+------------------------------+----------------+
| CentOS Stream 9 (ARM) | SKIPPED                   | SKIPPED                      | PASS           |
+-----------------------+---------------------------+------------------------------+----------------+


Debian 11 (arm)
	Kernel: Container Host Kernel
	Compiler: gcc 10.2.1

CentOS Stream 9 (ARM)
	Kernel: Container Host Kernel
	Compiler: gcc 11.3.1

To view detailed results, visit:
https://lab.dpdk.org/results/dashboard/tarballs/27803/

UNH-IOL DPDK Community Lab

To manage your email subscriptions, visit: 
https://lab.dpdk.org/results/dashboard/preferences/subscriptions/


More information about the test-report mailing list