|SUCCESS| pw136171-136177 [PATCH] [v3,8/8] examples/dma: replace get

dpdklab at iol.unh.edu dpdklab at iol.unh.edu
Fri Jan 26 09:00:01 CET 2024


Test-Label: iol-compile-amd64-testing
Test-Status: SUCCESS
http://dpdk.org/patch/136177

_Testing PASS_

Submitter: fengchengwen <fengchengwen at huawei.com>
Date: Friday, January 26 2024 06:10:13 
DPDK git baseline: Repo:dpdk
  Branch: master
  CommitID:2ecc673e5e9a19850ba76d6a976596890f2dade1

136171-136177 --> testing pass

Test environment and result as below:

+---------------------+--------------------+----------------------+
|     Environment     | dpdk_meson_compile | dpdk_mingw64_compile |
+=====================+====================+======================+
| FreeBSD 13.2        | PASS               | SKIPPED              |
+---------------------+--------------------+----------------------+
| Windows Server 2019 | PASS               | PASS                 |
+---------------------+--------------------+----------------------+


FreeBSD 13.2
	Kernel: 13.2
	Compiler: clang 11.3.0

Windows Server 2019
	Kernel: 10.0
	Compiler: clang 14.0 and gcc 8.1.0 (MinGW)

To view detailed results, visit:
https://lab.dpdk.org/results/dashboard/patchsets/28970/

UNH-IOL DPDK Community Lab

To manage your email subscriptions, visit: 
https://lab.dpdk.org/results/dashboard/preferences/subscriptions/


More information about the test-report mailing list