|SUCCESS| [GIT MASTER] eeb0605f118dae66e80faa44f7b3e88748032353

dpdklab at iol.unh.edu dpdklab at iol.unh.edu
Mon Jan 29 06:20:23 CET 2024


_Testing PASS_

Branch: tags/v23.11

eeb0605f118dae66e80faa44f7b3e88748032353 --> testing pass

Test environment and result as below:

+-----------------+--------------------+
|   Environment   | dpdk_meson_compile |
+=================+====================+
| Debian Bullseye | PASS               |
+-----------------+--------------------+
| Debian Buster   | PASS               |
+-----------------+--------------------+
| CentOS Stream 9 | PASS               |
+-----------------+--------------------+
| Fedora 38       | PASS               |
+-----------------+--------------------+
| Ubuntu 20.04    | PASS               |
+-----------------+--------------------+
| Fedora 37       | PASS               |
+-----------------+--------------------+
| RHEL8           | PASS               |
+-----------------+--------------------+
| FreeBSD 13.2    | PASS               |
+-----------------+--------------------+


Debian Bullseye
	Kernel: 5.4.0-122-generic
	Compiler: gcc 10.2.1-6

Debian Buster
	Kernel: 5.4.0-122-generic
	Compiler: gcc 8.3.0-6

CentOS Stream 9
	Kernel: 4.18.0-240.10.1.el8_3.x86_64
	Compiler: gcc 11.3.1 20220421

Fedora 38
	Kernel: Depends on container host
	Compiler: gcc 13.1.1

Ubuntu 20.04
	Kernel: 5.4.0-153-generic
	Compiler: gcc 9.4.0-1ubuntu1~20.04.1

Fedora 37
	Kernel: Depends on container host system
	Compiler: gcc 12.3.1

RHEL8
	Kernel: 4.18.0-240.10.1.el8_3.x86_64
	Compiler: gcc 8.3.1 20191121 (Red Hat 8.3.1-5)

FreeBSD 13.2
	Kernel: 13.2
	Compiler: clang 11.3.0

To view detailed results, visit:
https://lab.dpdk.org/results/dashboard/tarballs/27819/

UNH-IOL DPDK Community Lab

To manage your email subscriptions, visit: 
https://lab.dpdk.org/results/dashboard/preferences/subscriptions/


More information about the test-report mailing list