|SUCCESS| pw136204 [PATCH] [v2] net/mana: use rte_pktmbuf_alloc_bulk
dpdklab at iol.unh.edu
dpdklab at iol.unh.edu
Tue Jan 30 03:39:38 CET 2024
Test-Label: iol-unit-arm64-testing
Test-Status: SUCCESS
http://dpdk.org/patch/136204
_Testing PASS_
Submitter: Long Li <longli at linuxonhyperv.com>
Date: Tuesday, January 30 2024 01:13:01
DPDK git baseline: Repo:dpdk
Branch: master
CommitID:906d2c06b3cfc61620453c6909266fe771f8ccfb
136204 --> testing pass
Test environment and result as below:
+--------------------------+---------------------------+------------------------------+--------------+----------------+
| Environment | cryptodev_sw_zuc_autotest | cryptodev_sw_snow3g_autotest | lpm_autotest | dpdk_unit_test |
+==========================+===========================+==============================+==============+================+
| Debian 11 (arm) | PASS | PASS | SKIPPED | SKIPPED |
+--------------------------+---------------------------+------------------------------+--------------+----------------+
| Ubuntu 20.04 ARM SVE | SKIPPED | SKIPPED | PASS | SKIPPED |
+--------------------------+---------------------------+------------------------------+--------------+----------------+
| Debian 11 (Buster) (ARM) | SKIPPED | SKIPPED | SKIPPED | PASS |
+--------------------------+---------------------------+------------------------------+--------------+----------------+
Debian 11 (arm)
Kernel: Container Host Kernel
Compiler: gcc 10.2.1
Ubuntu 20.04 ARM SVE
Kernel: 5.4.0-80-generic
Compiler: gcc 10.3.0 (Ubuntu 10.3.0-1ubuntu1~20.04)
Debian 11 (Buster) (ARM)
Kernel: Container Host Kernel
Compiler: gcc 10.2.1
To view detailed results, visit:
https://lab.dpdk.org/results/dashboard/patchsets/28981/
UNH-IOL DPDK Community Lab
To manage your email subscriptions, visit:
https://lab.dpdk.org/results/dashboard/preferences/subscriptions/
More information about the test-report
mailing list