|SUCCESS| [GIT MASTER] 4ca7aa1af6c6ff32c2c5ad958e527e17d11f6d18
dpdklab at iol.unh.edu
dpdklab at iol.unh.edu
Tue Jan 30 04:50:51 CET 2024
_Testing PASS_
Branch: dpdk
4ca7aa1af6c6ff32c2c5ad958e527e17d11f6d18 --> testing pass
Test environment and result as below:
+--------------------------+--------------+----------------+
| Environment | lpm_autotest | dpdk_unit_test |
+==========================+==============+================+
| Ubuntu 20.04 ARM SVE | PASS | SKIPPED |
+--------------------------+--------------+----------------+
| Debian 11 (Buster) (ARM) | SKIPPED | PASS |
+--------------------------+--------------+----------------+
| CentOS Stream 9 (ARM) | SKIPPED | PASS |
+--------------------------+--------------+----------------+
Ubuntu 20.04 ARM SVE
Kernel: 5.4.0-80-generic
Compiler: gcc 10.3.0 (Ubuntu 10.3.0-1ubuntu1~20.04)
Debian 11 (Buster) (ARM)
Kernel: Container Host Kernel
Compiler: gcc 10.2.1
CentOS Stream 9 (ARM)
Kernel: Container Host Kernel
Compiler: gcc 11.3.1
To view detailed results, visit:
https://lab.dpdk.org/results/dashboard/tarballs/27827/
UNH-IOL DPDK Community Lab
To manage your email subscriptions, visit:
https://lab.dpdk.org/results/dashboard/preferences/subscriptions/
More information about the test-report
mailing list