|SUCCESS| pw136208 [PATCH] [v3] lib/telemetry:fix telemetry conns le

dpdklab at iol.unh.edu dpdklab at iol.unh.edu
Tue Jan 30 05:39:03 CET 2024


Test-Label: iol-abi-testing
Test-Status: SUCCESS
http://dpdk.org/patch/136208

_Testing PASS_

Submitter: Shaowei Sun <1819846787 at qq.com>
Date: Tuesday, January 30 2024 01:57:04 
DPDK git baseline: Repo:dpdk
  Branch: master
  CommitID:4ca7aa1af6c6ff32c2c5ad958e527e17d11f6d18

136208 --> testing pass

Test environment and result as below:

+-----------------+----------+
|   Environment   | abi_test |
+=================+==========+
| Debian Bullseye | PASS     |
+-----------------+----------+
| Fedora 37       | PASS     |
+-----------------+----------+
| RHEL8           | PASS     |
+-----------------+----------+


Debian Bullseye
	Kernel: 5.4.0-122-generic
	Compiler: gcc 10.2.1-6

Fedora 37
	Kernel: Depends on container host system
	Compiler: gcc 12.3.1

RHEL8
	Kernel: 4.18.0-240.10.1.el8_3.x86_64
	Compiler: gcc 8.3.1 20191121 (Red Hat 8.3.1-5)

To view detailed results, visit:
https://lab.dpdk.org/results/dashboard/patchsets/28984/

UNH-IOL DPDK Community Lab

To manage your email subscriptions, visit: 
https://lab.dpdk.org/results/dashboard/preferences/subscriptions/


More information about the test-report mailing list