|SUCCESS| pw136207 [PATCH] [v2] app/testpmd: fix crash in multi-proc
dpdklab at iol.unh.edu
dpdklab at iol.unh.edu
Tue Jan 30 06:16:45 CET 2024
Test-Label: iol-abi-testing
Test-Status: SUCCESS
http://dpdk.org/patch/136207
_Testing PASS_
Submitter: Dengdui Huang <huangdengdui at huawei.com>
Date: Tuesday, January 30 2024 01:32:49
DPDK git baseline: Repo:dpdk
Branch: master
CommitID:906d2c06b3cfc61620453c6909266fe771f8ccfb
136207 --> testing pass
Test environment and result as below:
+------------------+----------+
| Environment | abi_test |
+==================+==========+
| CentOS Stream 8 | PASS |
+------------------+----------+
| Fedora 38 | PASS |
+------------------+----------+
| openSUSE Leap 15 | PASS |
+------------------+----------+
CentOS Stream 8
Kernel: 4.18.0-240.10.1.el8_3.x86_64
Compiler: gcc 8.4.1 20200928
Fedora 38
Kernel: Depends on container host
Compiler: clang 16.0.3
openSUSE Leap 15
Kernel: 4.18.0-240.10.1.el8_3.x86_64
Compiler: gcc 7.5.0
To view detailed results, visit:
https://lab.dpdk.org/results/dashboard/patchsets/28983/
UNH-IOL DPDK Community Lab
To manage your email subscriptions, visit:
https://lab.dpdk.org/results/dashboard/preferences/subscriptions/
More information about the test-report
mailing list