|SUCCESS| pw136207 [PATCH] [v2] app/testpmd: fix crash in multi-proc

dpdklab at iol.unh.edu dpdklab at iol.unh.edu
Tue Jan 30 06:36:55 CET 2024


Test-Label: iol-compile-arm64-testing
Test-Status: SUCCESS
http://dpdk.org/patch/136207

_Testing PASS_

Submitter: Dengdui Huang <huangdengdui at huawei.com>
Date: Tuesday, January 30 2024 01:32:49 
DPDK git baseline: Repo:dpdk
  Branch: master
  CommitID:906d2c06b3cfc61620453c6909266fe771f8ccfb

136207 --> testing pass

Test environment and result as below:

+-----------------------+--------------------+
|      Environment      | dpdk_meson_compile |
+=======================+====================+
| Ubuntu 20.04 ARM SVE  | PASS               |
+-----------------------+--------------------+
| Fedora 38 (ARM)       | PASS               |
+-----------------------+--------------------+
| Ubuntu 20.04 (ARM)    | PASS               |
+-----------------------+--------------------+
| CentOS Stream 9 (ARM) | PASS               |
+-----------------------+--------------------+


Ubuntu 20.04 ARM SVE
	Kernel: 5.4.0-80-generic
	Compiler: gcc 10.3.0 (Ubuntu 10.3.0-1ubuntu1~20.04)

Fedora 38 (ARM)
	Kernel: Depends on container host
	Compiler: gcc 13.1.1

Ubuntu 20.04 (ARM)
	Kernel: Container Host Kernel
	Compiler: gcc 9.4.0

CentOS Stream 9 (ARM)
	Kernel: Container Host Kernel
	Compiler: gcc 11.3.1

To view detailed results, visit:
https://lab.dpdk.org/results/dashboard/patchsets/28983/

UNH-IOL DPDK Community Lab

To manage your email subscriptions, visit: 
https://lab.dpdk.org/results/dashboard/preferences/subscriptions/


More information about the test-report mailing list