|SUCCESS| pw136216 [PATCH] [V1] net/mlx5: store IPv6 TC detection re
dpdklab at iol.unh.edu
dpdklab at iol.unh.edu
Tue Jan 30 11:26:05 CET 2024
Test-Label: iol-abi-testing
Test-Status: SUCCESS
http://dpdk.org/patch/136216
_Testing PASS_
Submitter: Gavin Li <gavinl at nvidia.com>
Date: Tuesday, January 30 2024 06:49:13
DPDK git baseline: Repo:dpdk
Branch: master
CommitID:1d3700bd8452e2c62254499ef83f22f5ec7714dc
136216 --> testing pass
Test environment and result as below:
+------------------+----------+
| Environment | abi_test |
+==================+==========+
| CentOS Stream 8 | PASS |
+------------------+----------+
| openSUSE Leap 15 | PASS |
+------------------+----------+
| Fedora 37 | PASS |
+------------------+----------+
CentOS Stream 8
Kernel: 4.18.0-240.10.1.el8_3.x86_64
Compiler: gcc 8.4.1 20200928
openSUSE Leap 15
Kernel: 4.18.0-240.10.1.el8_3.x86_64
Compiler: gcc 7.5.0
Fedora 37
Kernel: Depends on container host system
Compiler: gcc 12.3.1
To view detailed results, visit:
https://lab.dpdk.org/results/dashboard/patchsets/28988/
UNH-IOL DPDK Community Lab
To manage your email subscriptions, visit:
https://lab.dpdk.org/results/dashboard/preferences/subscriptions/
More information about the test-report
mailing list