|SUCCESS| pw136213-136214 [PATCH] [v7,5/5] app/testpmd: stop forward

dpdklab at iol.unh.edu dpdklab at iol.unh.edu
Tue Jan 30 13:24:53 CET 2024


Test-Label: iol-unit-arm64-testing
Test-Status: SUCCESS
http://dpdk.org/patch/136214

_Testing PASS_

Submitter: Huisong Li <lihuisong at huawei.com>
Date: Tuesday, January 30 2024 06:36:48 
DPDK git baseline: Repo:dpdk
  Branch: master
  CommitID:906d2c06b3cfc61620453c6909266fe771f8ccfb

136213-136214 --> testing pass

Test environment and result as below:

+--------------------------+--------------+----------------+
|       Environment        | lpm_autotest | dpdk_unit_test |
+==========================+==============+================+
| Ubuntu 20.04 ARM SVE     | PASS         | SKIPPED        |
+--------------------------+--------------+----------------+
| CentOS Stream 9 (ARM)    | SKIPPED      | PASS           |
+--------------------------+--------------+----------------+
| Debian 11 (Buster) (ARM) | SKIPPED      | PASS           |
+--------------------------+--------------+----------------+
| Fedora 37 (ARM)          | SKIPPED      | PASS           |
+--------------------------+--------------+----------------+
| Fedora 38 (ARM)          | SKIPPED      | PASS           |
+--------------------------+--------------+----------------+
| Fedora 38 (ARM Clang)    | SKIPPED      | PASS           |
+--------------------------+--------------+----------------+
| Ubuntu 20.04 (ARM)       | SKIPPED      | PASS           |
+--------------------------+--------------+----------------+


Ubuntu 20.04 ARM SVE
	Kernel: 5.4.0-80-generic
	Compiler: gcc 10.3.0 (Ubuntu 10.3.0-1ubuntu1~20.04)

CentOS Stream 9 (ARM)
	Kernel: Container Host Kernel
	Compiler: gcc 11.3.1

Debian 11 (Buster) (ARM)
	Kernel: Container Host Kernel
	Compiler: gcc 10.2.1

Fedora 37 (ARM)
	Kernel: Depends on container host
	Compiler: gcc 12.3.1

Fedora 38 (ARM)
	Kernel: Depends on container host
	Compiler: gcc 13.1.1

Fedora 38 (ARM Clang)
	Kernel: Depends on container host
	Compiler: clang 16.0.3

Ubuntu 20.04 (ARM)
	Kernel: Container Host Kernel
	Compiler: gcc 9.4.0

To view detailed results, visit:
https://lab.dpdk.org/results/dashboard/patchsets/28987/

UNH-IOL DPDK Community Lab

To manage your email subscriptions, visit: 
https://lab.dpdk.org/results/dashboard/preferences/subscriptions/


More information about the test-report mailing list