|SUCCESS| pw136222 [PATCH] [v2] crypto/ipsec_mb: bump minimum IPSec
dpdklab at iol.unh.edu
dpdklab at iol.unh.edu
Tue Jan 30 23:30:29 CET 2024
Test-Label: iol-compile-amd64-testing
Test-Status: SUCCESS
http://dpdk.org/patch/136222
_Testing PASS_
Submitter: Sivaramakrishnan Venkat <venkatx.sivaramakrishnan at intel.com>
Date: Tuesday, January 30 2024 14:24:11
DPDK git baseline: Repo:dpdk
Branch: master
CommitID:37601f389bc2d06efdc3e357c7128ce4f84e51af
136222 --> testing pass
Test environment and result as below:
+---------------------+--------------------+----------------------+
| Environment | dpdk_meson_compile | dpdk_mingw64_compile |
+=====================+====================+======================+
| Windows Server 2019 | PASS | PASS |
+---------------------+--------------------+----------------------+
| FreeBSD 13.2 | PASS | SKIPPED |
+---------------------+--------------------+----------------------+
Windows Server 2019
Kernel: 10.0
Compiler: clang 14.0 and gcc 8.1.0 (MinGW)
FreeBSD 13.2
Kernel: 13.2
Compiler: clang 11.3.0
To view detailed results, visit:
https://lab.dpdk.org/results/dashboard/patchsets/28993/
UNH-IOL DPDK Community Lab
To manage your email subscriptions, visit:
https://lab.dpdk.org/results/dashboard/preferences/subscriptions/
More information about the test-report
mailing list