|SUCCESS| pw136235-136236 [PATCH] [2/2] ci: update versions of actio
dpdklab at iol.unh.edu
dpdklab at iol.unh.edu
Wed Jan 31 20:01:04 CET 2024
Test-Label: iol-unit-arm64-testing
Test-Status: SUCCESS
http://dpdk.org/patch/136236
_Testing PASS_
Submitter: David Marchand <david.marchand at redhat.com>
Date: Wednesday, January 31 2024 17:44:36
DPDK git baseline: Repo:dpdk
Branch: master
CommitID:5eedf66ac0e5ce62cd333e523996c63a3c4c2c00
136235-136236 --> testing pass
Test environment and result as below:
+-----------------------+------------------------------+---------------------------+----------------+
| Environment | cryptodev_sw_snow3g_autotest | cryptodev_sw_zuc_autotest | dpdk_unit_test |
+=======================+==============================+===========================+================+
| Debian 11 (arm) | PASS | PASS | SKIPPED |
+-----------------------+------------------------------+---------------------------+----------------+
| CentOS Stream 9 (ARM) | SKIPPED | SKIPPED | PASS |
+-----------------------+------------------------------+---------------------------+----------------+
Debian 11 (arm)
Kernel: Container Host Kernel
Compiler: gcc 10.2.1
CentOS Stream 9 (ARM)
Kernel: Container Host Kernel
Compiler: gcc 11.3.1
To view detailed results, visit:
https://lab.dpdk.org/results/dashboard/patchsets/29004/
UNH-IOL DPDK Community Lab
To manage your email subscriptions, visit:
https://lab.dpdk.org/results/dashboard/preferences/subscriptions/
More information about the test-report
mailing list