|PENDING| [GIT MASTER] 1a055be1a3756b5bc4cc814e939c81985cd59289
    dpdklab at iol.unh.edu 
    dpdklab at iol.unh.edu
       
    Tue Jul  2 14:07:46 CEST 2024
    
    
  
_Testing pending_
Branch: tags/v22.11
1a055be1a3756b5bc4cc814e939c81985cd59289 --> testing pending
Test environment and result as below:
+---------------------+----------------------+--------------------+
|     Environment     | dpdk_mingw64_compile | dpdk_meson_compile |
+=====================+======================+====================+
| Windows Server 2019 | PASS                 | PASS               |
+---------------------+----------------------+--------------------+
| Windows Server 2022 | PASS                 | PASS               |
+---------------------+----------------------+--------------------+
| FreeBSD 13.3        | SKIPPED              | PASS               |
+---------------------+----------------------+--------------------+
| FreeBSD 14.1        | SKIPPED              | PASS               |
+---------------------+----------------------+--------------------+
| CentOS Stream 8     | SKIPPED              | PASS               |
+---------------------+----------------------+--------------------+
| CentOS Stream 9     | SKIPPED              | PASS               |
+---------------------+----------------------+--------------------+
| Debian Bullseye     | SKIPPED              | PASS               |
+---------------------+----------------------+--------------------+
| Debian 12           | SKIPPED              | PASS               |
+---------------------+----------------------+--------------------+
| Fedora 37           | SKIPPED              | PEND               |
+---------------------+----------------------+--------------------+
| Fedora 38 (Clang)   | SKIPPED              | PASS               |
+---------------------+----------------------+--------------------+
| Fedora 38           | SKIPPED              | PEND               |
+---------------------+----------------------+--------------------+
| Fedora 39 (Clang)   | SKIPPED              | PASS               |
+---------------------+----------------------+--------------------+
| Fedora 39           | SKIPPED              | PASS               |
+---------------------+----------------------+--------------------+
| Fedora 40 (Clang)   | SKIPPED              | PEND               |
+---------------------+----------------------+--------------------+
| Fedora 40           | SKIPPED              | PEND               |
+---------------------+----------------------+--------------------+
| openSUSE Leap 15    | SKIPPED              | PASS               |
+---------------------+----------------------+--------------------+
| RHEL8               | SKIPPED              | PEND               |
+---------------------+----------------------+--------------------+
| RHEL9               | SKIPPED              | PEND               |
+---------------------+----------------------+--------------------+
| Ubuntu 20.04        | SKIPPED              | PEND               |
+---------------------+----------------------+--------------------+
| Ubuntu 22.04        | SKIPPED              | PEND               |
+---------------------+----------------------+--------------------+
| Ubuntu 24.04        | SKIPPED              | PEND               |
+---------------------+----------------------+--------------------+
| RHEL 7              | SKIPPED              | PEND               |
+---------------------+----------------------+--------------------+
Windows Server 2019
	Kernel: 10.0.17763
	Compiler: clang 14.0 and gcc 8.1.0 (MinGW)
Windows Server 2022
	Kernel: 10.0.20348.2031
	Compiler: clang 15.0.7, gcc 8.1.0 (MinGW), and MSVC VS 17.9
FreeBSD 13.3
	Kernel: 13.3-RELEASE-p1
	Compiler: clang 17.0.6
FreeBSD 14.1
	Kernel: 14.1
	Compiler: clang 18.1.5
CentOS Stream 8
	Kernel: 5.4.0-167-generic
	Compiler: gcc 8.5.0 20210514
CentOS Stream 9
	Kernel: 5.4.0-167-generic
	Compiler: gcc 11.4.1 20230605
Debian Bullseye
	Kernel: 5.4.0-167-generic
	Compiler: gcc 10.2.1-6
Debian 12
	Kernel: Container Host Kernel
	Compiler: gcc 12.2.0
Fedora 37
	Kernel: Depends on container host system
	Compiler: gcc 12.3.1
Fedora 38 (Clang)
	Kernel: Depends on container host
	Compiler: clang 16.0.6
Fedora 38
	Kernel: Depends on container host
	Compiler: gcc 13.2.1
Fedora 39 (Clang)
	Kernel: Depends on container host
	Compiler: clang 17.0.6
Fedora 39
	Kernel: Depends on container host
	Compiler: gcc 13.2.1
Fedora 40 (Clang)
	Kernel: Depends on container host
	Compiler: clang 18.1.6
Fedora 40
	Kernel: Depends on container host
	Compiler: gcc 14.1.1
openSUSE Leap 15
	Kernel: 5.4.0-167-generic
	Compiler: gcc 7.5.0
RHEL8
	Kernel: 5.4.0-167-generic
	Compiler: gcc 8.5.0 20210514 (Red Hat 8.5.0-20)
RHEL9
	Kernel: Depends on container host
	Compiler: gcc 11.4.1
Ubuntu 20.04
	Kernel: 5.4.0-167-generic
	Compiler: gcc 9.4.0-1ubuntu1~20.04.1
Ubuntu 22.04
	Kernel: 5.4.0-167-generic
	Compiler: gcc 11.4.0
Ubuntu 24.04
	Kernel: 5.4.0-167-generic
	Compiler: gcc 13.2.0
RHEL 7
	Kernel: 5.4.0-167-generic
	Compiler: gcc 4.8.5 20150623 (Red Hat 4.8.5-44)
To view detailed results, visit:
https://lab.dpdk.org/results/dashboard/tarballs/29674/
UNH-IOL DPDK Community Lab
To manage your email subscriptions, visit: 
https://lab.dpdk.org/results/dashboard/preferences/subscriptions/
    
    
More information about the test-report
mailing list